BEGIN:VCALENDAR
VERSION:2.0
PRODID:-//Eventin//Event Calendar//EN
CALSCALE:GREGORIAN
METHOD:PUBLISH
BEGIN:VEVENT
UID:80d22ab7dc78cb6987b8fb59489dc69c@glane-veveyse.vertliberaux.ch
SUMMARY:Comptoir de la Glâne
DESCRIPTION:Le PVL sera présent :-)\nDétails sur https://www.comptoir-gla
 ne.ch/
LOCATION:Centre L2 de Romont Rte de Raboud 13 1680 Romont
DTSTAMP:20260420T224451Z
DTSTART:20260512T153000Z
DTEND:20260517T160000Z
END:VEVENT
END:VCALENDAR
